{"text_format":"3","workbook":"xlsx","n_sheets":4,"sheets":["Toelichting","LOA","Sjabloon revisies","Config"],"not_rendered":{"images":2,"defined_names":4},"read":"whole","date_system":"1900"}

{"sheet":"Toelichting","index":0,"n_rows":3,"n_cols":3,"rows_kept":3}
[]
[null,"Doelstelling","• Dit sjabloon is er voor u als aannemer om voor uw perceel de oplijsting van onderaannemers door te geven aan UZ Leuven.Ook indien er geen onderaanneming van toepassing is kan u dit rapporteren aan de hand van dit sjabloon."]
[null,"Hoe gebruiken","• Vervolledig dit formulier apart voor ieder TE nummer waaraan u uw medewerking verleent\n• vermeldt het TE nr in de bestandsnaam\n• Vervolledig alle info velden\n• voor het invullen van \"graad van onderaanneming\" kan u gebruik maken van een dropdown box\n• voor het invullen van \"In opdracht van\" kan u gebruik maken van een dropdown box die automatisch aangevuld wordt met de reeds ingevulde hoofdaannemer en onderaannemers"]

{"sheet":"LOA","index":1,"n_rows":14,"n_cols":10,"rows_kept":14,"merged":[[0,7,0,8],[1,3,3,4],[4,2,4,4],[5,2,5,4],[6,2,6,4],[7,2,7,4],[8,2,8,4],[9,2,9,4],[10,1,10,2],[10,3,10,4],[12,1,13,1],[12,2,13,2],[12,3,13,3],[12,4,13,4],[12,5,13,5],[12,6,12,9]]}
[{"$nulls":7},"STD-AL-910-MD20993",null,"Rev 07"]
[{"$nulls":3},"Lijst onderaannemer(s)"]
[]
[]
[null,"TE nummer"]
[null,"Project naam"]
[null,"Perceel nummer"]
[null,"Werf meldingsnummer"]
[null,"Hoofdaannemer"]
[null,"Ondernemings nummer"]
[null,"Zijn er onderaannemers aangesteld?",null,"Ja/Nee?"]
[]
[null,"Onderaannemer(s)","Ondernemings nummer","In opdracht van","Graad van onder aanneming","Aard v/d werken","Contact gegevens"]
[{"$nulls":6},"Contact persoon","E-mail","Telefoon1","Telefoon2"]

{"sheet":"Sjabloon revisies","index":2,"n_rows":9,"n_cols":4,"rows_kept":9}
[]
[null,"Revisie","Datum","Omschrijving"]
[null,"01","2019-01-14","• 1e vrijgave sjabloon"]
[null,"02","2019-01-23","• aanpassing STD nr"]
[null,"03","2019-04-04","• keuzeveld om aan te geven indien geen onderaannemer van toepassing is.\n• Ja/nee vraag om aan te geven of OA van toepassing is"]
[null,"04","2019-10-03","• toekenning nieuwe STD doc nummering"]
[null,"05","2019-11-22","• Toevoeging tabblad 'toelichting' met stroomdiagramma"]
[null,"06","2020-05-05","• drop down lijst \"in opdracht van\" aangepast"]
[null,"07","2022-09-13","• Toelichting geupdate"]

{"sheet":"Config","index":3,"n_rows":51,"n_cols":3,"rows_kept":51,"hidden":true}
["Graad","Iov","OA"]
[1,{"$f":"IF(LOA!B15=0,\"\",LOA!B15)","v":""},"Ja"]
[2,{"$f":"IF(LOA!B16=0,\"\",LOA!B16)","v":""},"Nee"]
[3,{"$f":"IF(LOA!B17=0,\"\",LOA!B17)","v":""}]
[4,{"$f":"IF(LOA!B18=0,\"\",LOA!B18)","v":""}]
[5,{"$f":"IF(LOA!B19=0,\"\",LOA!B19)","v":""}]
[null,{"$f":"IF(LOA!B20=0,\"\",LOA!B20)","v":""}]
[null,{"$f":"IF(LOA!B21=0,\"\",LOA!B21)","v":""}]
[null,{"$f":"IF(LOA!B22=0,\"\",LOA!B22)","v":""}]
[null,{"$f":"IF(LOA!B23=0,\"\",LOA!B23)","v":""}]
[null,{"$f":"IF(LOA!B24=0,\"\",LOA!B24)","v":""}]
[null,{"$f":"IF(LOA!B25=0,\"\",LOA!B25)","v":""}]
[null,{"$f":"IF(LOA!B26=0,\"\",LOA!B26)","v":""}]
[null,{"$f":"IF(LOA!B27=0,\"\",LOA!B27)","v":""}]
[null,{"$f":"IF(LOA!B28=0,\"\",LOA!B28)","v":""}]
[null,{"$f":"IF(LOA!B29=0,\"\",LOA!B29)","v":""}]
[null,{"$f":"IF(LOA!B30=0,\"\",LOA!B30)","v":""}]
[null,{"$f":"IF(LOA!B31=0,\"\",LOA!B31)","v":""}]
[null,{"$f":"IF(LOA!B32=0,\"\",LOA!B32)","v":""}]
[null,{"$f":"IF(LOA!B33=0,\"\",LOA!B33)","v":""}]
[null,{"$f":"IF(LOA!B34=0,\"\",LOA!B34)","v":""}]
[null,{"$f":"IF(LOA!B35=0,\"\",LOA!B35)","v":""}]
[null,{"$f":"IF(LOA!B36=0,\"\",LOA!B36)","v":""}]
[null,{"$f":"IF(LOA!B37=0,\"\",LOA!B37)","v":""}]
[null,{"$f":"IF(LOA!B38=0,\"\",LOA!B38)","v":""}]
[null,{"$f":"IF(LOA!B39=0,\"\",LOA!B39)","v":""}]
[null,{"$f":"IF(LOA!B40=0,\"\",LOA!B40)","v":""}]
[null,{"$f":"IF(LOA!B41=0,\"\",LOA!B41)","v":""}]
[null,{"$f":"IF(LOA!B42=0,\"\",LOA!B42)","v":""}]
[null,{"$f":"IF(LOA!B43=0,\"\",LOA!B43)","v":""}]
[null,{"$f":"IF(LOA!B44=0,\"\",LOA!B44)","v":""}]
[null,{"$f":"IF(LOA!B45=0,\"\",LOA!B45)","v":""}]
[null,{"$f":"IF(LOA!B46=0,\"\",LOA!B46)","v":""}]
[null,{"$f":"IF(LOA!B47=0,\"\",LOA!B47)","v":""}]
[null,{"$f":"IF(LOA!B48=0,\"\",LOA!B48)","v":""}]
[null,{"$f":"IF(LOA!B49=0,\"\",LOA!B49)","v":""}]
[null,{"$f":"IF(LOA!B50=0,\"\",LOA!B50)","v":""}]
[null,{"$f":"IF(LOA!B51=0,\"\",LOA!B51)","v":""}]
[null,{"$f":"IF(LOA!B52=0,\"\",LOA!B52)","v":""}]
[null,{"$f":"IF(LOA!B53=0,\"\",LOA!B53)","v":""}]
[null,{"$f":"IF(LOA!B54=0,\"\",LOA!B54)","v":""}]
[null,{"$f":"IF(LOA!B55=0,\"\",LOA!B55)","v":""}]
[null,{"$f":"IF(LOA!B56=0,\"\",LOA!B56)","v":""}]
[null,{"$f":"IF(LOA!B57=0,\"\",LOA!B57)","v":""}]
[null,{"$f":"IF(LOA!B58=0,\"\",LOA!B58)","v":""}]
[null,{"$f":"IF(LOA!B59=0,\"\",LOA!B59)","v":""}]
[null,{"$f":"IF(LOA!B60=0,\"\",LOA!B60)","v":""}]
[null,{"$f":"IF(LOA!B61=0,\"\",LOA!B61)","v":""}]
[null,{"$f":"IF(LOA!B62=0,\"\",LOA!B62)","v":""}]
[null,{"$f":"IF(LOA!B63=0,\"\",LOA!B63)","v":""}]
[null,{"$f":"IF(LOA!B64=0,\"\",LOA!B64)","v":""}]